BEGIN:VCALENDAR
VERSION:2.0
PRODID:-//Drupal iCal API//EN
X-WR-CALNAME:Events items teaser
X-WR-TIMEZONE:America/Toronto
BEGIN:VTIMEZONE
TZID:America/Toronto
X-LIC-LOCATION:America/Toronto
BEGIN:DAYLIGHT
TZNAME:EDT
TZOFFSETFROM:-0500
TZOFFSETTO:-0400
DTSTART:20250309T070000
END:DAYLIGHT
BEGIN:STANDARD
TZNAME:EST
TZOFFSETFROM:-0400
TZOFFSETTO:-0500
DTSTART:20251102T060000
END:STANDARD
END:VTIMEZONE
BEGIN:VEVENT
UID:69e871bb997cc
DTSTART;TZID=America/Toronto:20251211T130000
SEQUENCE:0
TRANSP:TRANSPARENT
DTEND;TZID=America/Toronto:20251211T150000
URL:https://uwaterloo.ca/indigenous/events/open-house-celebrate-jean-becker
 s-retirement
LOCATION:EC5 - East Campus 5 305 Phillip St. Office of Indigenous Relations
  (EC5 4201) Waterloo ON N2L 5Z5 Canada
SUMMARY:Open House to Celebrate Jean Becker’s Retirement
CLASS:PUBLIC
DESCRIPTION:Join us in celebrating Jean Becker\, Associate Vice-President\,
 \nIndigenous Relations\, for her outstanding leadership and lasting\nimpac
 t at the University of Waterloo. Since 2020\, Jean has guided key\ninitiat
 ives including the Indigenous Strategic Plan and the creation\nof the Offi
 ce of Indigenous Relations.\n\nCome share your stories\, gratitude\, and w
 arm wishes as we honour her\ncontributions to truth and reconciliation. Te
 a and sweet treats will\nbe provided. Registration is encouraged but not r
 equired.
DTSTAMP:20260422T065907Z
END:VEVENT
END:VCALENDAR