BEGIN:VCALENDAR
VERSION:2.0
PRODID:-//Drupal iCal API//EN
X-WR-CALNAME:Events items teaser
X-WR-TIMEZONE:America/Toronto
BEGIN:VTIMEZONE
TZID:America/Toronto
X-LIC-LOCATION:America/Toronto
BEGIN:DAYLIGHT
TZNAME:EDT
TZOFFSETFROM:-0500
TZOFFSETTO:-0400
DTSTART:20250309T070000
END:DAYLIGHT
BEGIN:STANDARD
TZNAME:EST
TZOFFSETFROM:-0400
TZOFFSETTO:-0500
DTSTART:20251102T060000
END:STANDARD
END:VTIMEZONE
BEGIN:VEVENT
UID:69e89a542066b
DTSTART;TZID=America/Toronto:20260212T173000
SEQUENCE:0
TRANSP:TRANSPARENT
DTEND;TZID=America/Toronto:20260212T200000
URL:https://uwaterloo.ca/indigenous/events/have-heart-day-0
LOCATION:ARC - School of Architecture 7 Melville Street South Cambridge ON 
 N1S 2H4 Canada
SUMMARY:Have a Heart Day
CLASS:PUBLIC
DESCRIPTION:The Office of Indigenous Relations (OIR)\, University of Waterl
 oo\nSchool of Architecture in Cambridge and Southwest Ontario Aboriginal\n
 Centre (SOAHAC) will be collaborating for a community gathering and\nsocia
 l to be hosted on the evening of February 12\, 2026. The evening\nwill inc
 lude a connection to culture\, song\, dance\, crafts\, activities\nfor kid
 s and more! 
DTSTAMP:20260422T095220Z
END:VEVENT
END:VCALENDAR