BEGIN:VCALENDAR
VERSION:2.0
PRODID:-//Drupal iCal API//EN
X-WR-CALNAME:Events items teaser
X-WR-TIMEZONE:America/Toronto
BEGIN:VTIMEZONE
TZID:America/Toronto
X-LIC-LOCATION:America/Toronto
BEGIN:DAYLIGHT
TZNAME:EDT
TZOFFSETFROM:-0500
TZOFFSETTO:-0400
DTSTART:20160313T070000
END:DAYLIGHT
BEGIN:STANDARD
TZNAME:EST
TZOFFSETFROM:-0400
TZOFFSETTO:-0500
DTSTART:20151101T060000
END:STANDARD
END:VTIMEZONE
BEGIN:VEVENT
UID:69e688a4406fb
DTSTART;TZID=America/Toronto:20160427T090000
SEQUENCE:0
TRANSP:TRANSPARENT
DTEND;TZID=America/Toronto:20160427T090000
URL:https://uwaterloo.ca/institute-for-quantum-computing/events/phd-thesis-
 yuval-sanders
LOCATION:QNC - Quantum Nano Centre 200 University Avenue West Room 2101 Wat
 erloo ON N2L 3G1 Canada
SUMMARY:PhD Thesis - Yuval Sanders
CLASS:PUBLIC
DESCRIPTION:[Yuval Sanders]Yuval Sanders of the Department of Physics and\n
 Astronomy will be defending his thesis:\n\nCHARACTERIZING ERRORS IN QUANTU
 M INFORMATION PROCESSORS\n\nYuval is supervised by Professors Raymond Lafl
 amme and Frank\nWilhelm-Mauch.
DTSTAMP:20260420T201220Z
END:VEVENT
END:VCALENDAR