BEGIN:VCALENDAR
VERSION:2.0
PRODID:-//Drupal iCal API//EN
X-WR-CALNAME:Events items teaser
X-WR-TIMEZONE:America/Toronto
BEGIN:VTIMEZONE
TZID:America/Toronto
X-LIC-LOCATION:America/Toronto
BEGIN:DAYLIGHT
TZNAME:EDT
TZOFFSETFROM:-0500
TZOFFSETTO:-0400
DTSTART:20160313T070000
END:DAYLIGHT
BEGIN:STANDARD
TZNAME:EST
TZOFFSETFROM:-0400
TZOFFSETTO:-0500
DTSTART:20151101T060000
END:STANDARD
END:VTIMEZONE
BEGIN:VEVENT
UID:69e5b549d3324
DTSTART;TZID=America/Toronto:20160512T130000
SEQUENCE:0
TRANSP:TRANSPARENT
DTEND;TZID=America/Toronto:20160512T130000
URL:https://uwaterloo.ca/institute-for-quantum-computing/events/seminar-bru
 no-huttner
LOCATION:QNC - Quantum Nano Centre 200 University Avenue West 1201 Waterloo
  ON N2L 3G1 Canada
SUMMARY:Seminar: Bruno Huttner
CLASS:PUBLIC
DESCRIPTION:QUANTUM TECHNOLOGIES FOR CYBER SECURITY: FROM THREATS TO SOLUTI
 ONS\n\nBRUNO HUTTNER\, ID QUANTIQUE\, SWITZERLAND\n\nRecent developments 
 in quantum computers have spurred renewed interest\nin quantum-safe soluti
 ons for information security [1]. It is now\nwidely accepted that the curr
 ent public key infrastructures\, which are\nthe foundation of cyber securi
 ty\, will not withstand the arrival of\nthe quantum computer [2]\, [3]\, a
 nd that this arrival will occur with\nhigh probability within the next ten
  to fifteen years. New solutions\nare called for\, and these solutions sho
 uld at least be partly based on\nquantum technologies.
DTSTAMP:20260420T051033Z
END:VEVENT
END:VCALENDAR