BEGIN:VCALENDAR
VERSION:2.0
PRODID:-//Drupal iCal API//EN
X-WR-CALNAME:Events items teaser
X-WR-TIMEZONE:America/Toronto
BEGIN:VTIMEZONE
TZID:America/Toronto
X-LIC-LOCATION:America/Toronto
BEGIN:DAYLIGHT
TZNAME:EDT
TZOFFSETFROM:-0500
TZOFFSETTO:-0400
DTSTART:20160313T070000
END:DAYLIGHT
BEGIN:STANDARD
TZNAME:EST
TZOFFSETFROM:-0400
TZOFFSETTO:-0500
DTSTART:20151101T060000
END:STANDARD
END:VTIMEZONE
BEGIN:VEVENT
UID:69e5b54057d9d
DTSTART;TZID=America/Toronto:20160624T140000
SEQUENCE:0
TRANSP:TRANSPARENT
DTEND;TZID=America/Toronto:20160624T140000
URL:https://uwaterloo.ca/institute-for-quantum-computing/events/seminar-bha
 skaran-muralidharan
LOCATION:QNC - Quantum Nano Centre 200 University Avenue West Waterloo ON N
 2L 3G1 Canada
SUMMARY:Seminar: Bhaskaran Muralidharan
CLASS:PUBLIC
DESCRIPTION:THE ROLE OF DUAL-NUCLEAR BATHS ON SINGLET-TRIPLET DYNAMICS IN A
  DOUBLE\nQUANTUM DOT\n\nBHASKARAN MURALIDHARAN\, INDIAN INSTITUTE OF TECH
 NOLOGY BOMBAY\n\nA deeper understanding of electronic transport phenomena 
 at the\nnanoscale is a cross-disciplinary effort that intertwines quantum
 \ndynamics\, electronic structure and statistical physics.
DTSTAMP:20260420T051024Z
END:VEVENT
END:VCALENDAR