BEGIN:VCALENDAR
VERSION:2.0
PRODID:-//Drupal iCal API//EN
X-WR-CALNAME:Events items teaser
X-WR-TIMEZONE:America/Toronto
BEGIN:VTIMEZONE
TZID:America/Toronto
X-LIC-LOCATION:America/Toronto
BEGIN:DAYLIGHT
TZNAME:EDT
TZOFFSETFROM:-0500
TZOFFSETTO:-0400
DTSTART:20160313T070000
END:DAYLIGHT
BEGIN:STANDARD
TZNAME:EST
TZOFFSETFROM:-0400
TZOFFSETTO:-0500
DTSTART:20151101T060000
END:STANDARD
END:VTIMEZONE
BEGIN:VEVENT
UID:69e585360c76e
DTSTART;TZID=America/Toronto:20160627T143000
SEQUENCE:0
TRANSP:TRANSPARENT
DTEND;TZID=America/Toronto:20160627T143000
URL:https://uwaterloo.ca/institute-for-quantum-computing/events/colloquium-
 robert-myers
LOCATION:QNC - Quantum Nano Centre 200 University Avenue West Waterloo ON N
 2L 3G1 Canada
SUMMARY:Colloquium: Robert Myers
CLASS:PUBLIC
DESCRIPTION:INFORMATION\, HOLOGRAPHY &amp; GRAVITY\n\nROBERT MYERS\, PERIMETER
  INSTITUTE\n\nIn science\, new advances and insights often emerge from the
  confluence\nof different ideas coming from what appeared to be disconnect
 ed\nresearch areas. The theme of my talk will review an ongoing collision\
 nbetween the three topics listed in my title which has been generating\nin
 teresting new insights about the nature of quantum gravity\, as well\nas v
 ariety of other fields\, such as condensed matter physics and\nquantum fie
 ld theory.
DTSTAMP:20260420T014526Z
END:VEVENT
END:VCALENDAR