BEGIN:VCALENDAR
VERSION:2.0
PRODID:-//Drupal iCal API//EN
X-WR-CALNAME:Events items teaser
X-WR-TIMEZONE:America/Toronto
BEGIN:VTIMEZONE
TZID:America/Toronto
X-LIC-LOCATION:America/Toronto
BEGIN:DAYLIGHT
TZNAME:EDT
TZOFFSETFROM:-0500
TZOFFSETTO:-0400
DTSTART:20160313T070000
END:DAYLIGHT
BEGIN:STANDARD
TZNAME:EST
TZOFFSETFROM:-0400
TZOFFSETTO:-0500
DTSTART:20151101T060000
END:STANDARD
END:VTIMEZONE
BEGIN:VEVENT
UID:69e5e6c1a2df9
DTSTART;TZID=America/Toronto:20160608T133000
SEQUENCE:0
TRANSP:TRANSPARENT
DTEND;TZID=America/Toronto:20160608T133000
URL:https://uwaterloo.ca/institute-for-quantum-computing/events/seminar-tom
 -stace
LOCATION:QNC - Quantum Nano Centre 200 University Avenue West Waterloo ON N
 2L 3G1 Canada
SUMMARY:Seminar: Tom Stace
CLASS:PUBLIC
DESCRIPTION:CORRELATED DECAY IN DRIVEN QUANTUM SYSTEMS\n\nTOM STACE\, UNIV
 ERSITY OF QUEENSLAND\, AUSTRALIA\n\nGate defined quantum dots are \"artifi
 cial atoms\"\, with well defined\nenergy levels. They interact strongly wi
 th microwave resonators\, and\nwith the solid-state environment in which t
 hey live. These systems can\nexhibit population inversion\, single-atom ma
 sing and other phenomena\nfamiliar to the quantum optics community. The en
 vironment also\nproduces higher-order correlated decay processes\, which a
 re typically\nnot included in quantum-optical Lindblad master equations.
DTSTAMP:20260420T084137Z
END:VEVENT
END:VCALENDAR