BEGIN:VCALENDAR
VERSION:2.0
PRODID:-//Drupal iCal API//EN
X-WR-CALNAME:Events items teaser
X-WR-TIMEZONE:America/Toronto
BEGIN:VTIMEZONE
TZID:America/Toronto
X-LIC-LOCATION:America/Toronto
BEGIN:DAYLIGHT
TZNAME:EDT
TZOFFSETFROM:-0500
TZOFFSETTO:-0400
DTSTART:20160313T070000
END:DAYLIGHT
BEGIN:STANDARD
TZNAME:EST
TZOFFSETFROM:-0400
TZOFFSETTO:-0500
DTSTART:20151101T060000
END:STANDARD
END:VTIMEZONE
BEGIN:VEVENT
UID:69e5b5445b3e2
DTSTART;TZID=America/Toronto:20160712T120000
SEQUENCE:0
TRANSP:TRANSPARENT
DTEND;TZID=America/Toronto:20160712T120000
URL:https://uwaterloo.ca/institute-for-quantum-computing/events/seminar-jon
 athan-oppenheim
LOCATION:QNC - Quantum Nano Centre 200 University Avenue West Waterloo ON N
 2L 3G1 Canada
SUMMARY:Seminar: Jonathan Oppenheim
CLASS:PUBLIC
DESCRIPTION:QUANTUM THERMODYNAMICS - A REVIEW\n\nJONATHAN OPPENHEIM\, UNIV
 ERSITY COLLEGE LONDON\n\nI review recent results in quantum thermodynamics
 . This includes the\nemergence of many second laws at the micro-scale\, fu
 lly quantum\nfluctuation relations for work and for states\, a proof of th
 e third\nlaw of thermodynamics applicable to erasing a bit of memory\, and
  a\ngrand canonical ensemble for non-commuting conserved quantities.\nProg
 ress has been made using tools from quantum information theory.
DTSTAMP:20260420T051028Z
END:VEVENT
END:VCALENDAR