BEGIN:VCALENDAR
VERSION:2.0
PRODID:-//Drupal iCal API//EN
X-WR-CALNAME:Events items teaser
X-WR-TIMEZONE:America/Toronto
BEGIN:VTIMEZONE
TZID:America/Toronto
X-LIC-LOCATION:America/Toronto
BEGIN:DAYLIGHT
TZNAME:EDT
TZOFFSETFROM:-0500
TZOFFSETTO:-0400
DTSTART:20160313T070000
END:DAYLIGHT
BEGIN:STANDARD
TZNAME:EST
TZOFFSETFROM:-0400
TZOFFSETTO:-0500
DTSTART:20151101T060000
END:STANDARD
END:VTIMEZONE
BEGIN:VEVENT
UID:69e695b59c673
DTSTART;TZID=America/Toronto:20160810T090000
SEQUENCE:0
TRANSP:TRANSPARENT
DTEND;TZID=America/Toronto:20160810T090000
URL:https://uwaterloo.ca/institute-for-quantum-computing/events/phd-thesis-
 sarah-kaiser
LOCATION:QNC - Quantum Nano Centre 200 University Avenue West Room 2101 Wat
 erloo ON N2L 3G1 Canada
SUMMARY:PhD Thesis - Sarah Kaiser
CLASS:PUBLIC
DESCRIPTION:[Sarah Kaiser]Sarah Kaiser of the Department of Physics and Ast
 ronomy\nwill be defending her thesis:\n\nQuantum Key Distribution Devices:
  How to make them and how to break\nthem\n\nSarah is supervised by Associa
 te Professor Thomas Jennewein.
DTSTAMP:20260420T210805Z
END:VEVENT
END:VCALENDAR