BEGIN:VCALENDAR
VERSION:2.0
PRODID:-//Drupal iCal API//EN
X-WR-CALNAME:Events items teaser
X-WR-TIMEZONE:America/Toronto
BEGIN:VTIMEZONE
TZID:America/Toronto
X-LIC-LOCATION:America/Toronto
BEGIN:DAYLIGHT
TZNAME:EDT
TZOFFSETFROM:-0500
TZOFFSETTO:-0400
DTSTART:20160313T070000
END:DAYLIGHT
BEGIN:STANDARD
TZNAME:EST
TZOFFSETFROM:-0400
TZOFFSETTO:-0500
DTSTART:20151101T060000
END:STANDARD
END:VTIMEZONE
BEGIN:VEVENT
UID:69e615e4722e3
DTSTART;TZID=America/Toronto:20160802T133000
SEQUENCE:0
TRANSP:TRANSPARENT
DTEND;TZID=America/Toronto:20160802T133000
URL:https://uwaterloo.ca/institute-for-quantum-computing/events/seminar-ste
 phanie-simmons
LOCATION:QNC - Quantum Nano Centre 200 University Avenue West Waterloo ON N
 2L 3G1 Canada
SUMMARY:Seminar: Stephanie Simmons
CLASS:PUBLIC
DESCRIPTION:A PHOTONIC LINK FOR DONOR SPIN QUBITS IN SILICON\n\nSTEPHANIE S
 IMMONS\, SIMON FRASER UNIVERSITY\n\nAtomically identical donor spin qubits
  in silicon offer excellent\nnative quantum properties\, which match or ou
 tperform many qubit\nrivals. To scale up such systems it would be advantag
 eous to connect\nsilicon donor spin qubits in a cavity-QED architecture. M
 any proposals\nin this direction introduce strong electric dipole interact
 ions to the\notherwise largely isolated spin qubit ground state in order t
 o couple\nto superconducting cavities.
DTSTAMP:20260420T120244Z
END:VEVENT
END:VCALENDAR