BEGIN:VCALENDAR
VERSION:2.0
PRODID:-//Drupal iCal API//EN
X-WR-CALNAME:Events items teaser
X-WR-TIMEZONE:America/Toronto
BEGIN:VTIMEZONE
TZID:America/Toronto
X-LIC-LOCATION:America/Toronto
BEGIN:DAYLIGHT
TZNAME:EDT
TZOFFSETFROM:-0500
TZOFFSETTO:-0400
DTSTART:20160313T070000
END:DAYLIGHT
BEGIN:STANDARD
TZNAME:EST
TZOFFSETFROM:-0400
TZOFFSETTO:-0500
DTSTART:20151101T060000
END:STANDARD
END:VTIMEZONE
BEGIN:VEVENT
UID:69e60328a1654
DTSTART;TZID=America/Toronto:20160802T143200
SEQUENCE:0
TRANSP:TRANSPARENT
DTEND;TZID=America/Toronto:20160802T143200
URL:https://uwaterloo.ca/institute-for-quantum-computing/events/seminar-car
 los-perez-delgado
LOCATION:QNC - Quantum Nano Centre 200 University Avenue West Waterloo ON N
 2L 3G1 Canada
SUMMARY:Seminar: Carlos Perez Delgado
CLASS:PUBLIC
DESCRIPTION:SECURE QUANTUM COMPUTATION: OPTIMALITY AND BEYOND\n\nCARLOS PER
 EZ DELGADO\, UNIVERSITY OF SHEFFIELD\n\nWhen a server performs a quantum 
 computation for a client\, the client\nmay insist on various security requ
 irements. One is that the client be\nable to ascertain the correctness of 
 the computation with high\nprobability. This is called verifiability. A se
 cond one is that the\nserver not be able to learn the input\, output\, or 
 nature of the\ncomputation that it itself is performing.
DTSTAMP:20260420T104248Z
END:VEVENT
END:VCALENDAR