BEGIN:VCALENDAR
VERSION:2.0
PRODID:-//Drupal iCal API//EN
X-WR-CALNAME:Events items teaser
X-WR-TIMEZONE:America/Toronto
BEGIN:VTIMEZONE
TZID:America/Toronto
X-LIC-LOCATION:America/Toronto
BEGIN:DAYLIGHT
TZNAME:EDT
TZOFFSETFROM:-0500
TZOFFSETTO:-0400
DTSTART:20160313T070000
END:DAYLIGHT
BEGIN:STANDARD
TZNAME:EST
TZOFFSETFROM:-0400
TZOFFSETTO:-0500
DTSTART:20151101T060000
END:STANDARD
END:VTIMEZONE
BEGIN:VEVENT
UID:69e764cda113d
DTSTART;TZID=America/Toronto:20160922T090000
SEQUENCE:0
TRANSP:TRANSPARENT
DTEND;TZID=America/Toronto:20160922T090000
URL:https://uwaterloo.ca/institute-for-quantum-computing/events/phd-thesis-
 zachary-webb
LOCATION:QNC - Quantum Nano Centre 200 University Avenue West Room 2101 Wat
 erloo ON N2L 3G1 Canada
SUMMARY:PhD Thesis - Zachary Webb
CLASS:PUBLIC
DESCRIPTION:[Zak Webb]Zachary Webb of the Department of Physics and Astrono
 my is\ndefending his thesis:\n\nThe computational power of many-body syste
 ms\n\nZak is supervised by Assistant Professor Andrew Childs.
DTSTAMP:20260421T115141Z
END:VEVENT
END:VCALENDAR