BEGIN:VCALENDAR
VERSION:2.0
PRODID:-//Drupal iCal API//EN
X-WR-CALNAME:Events items teaser
X-WR-TIMEZONE:America/Toronto
BEGIN:VTIMEZONE
TZID:America/Toronto
X-LIC-LOCATION:America/Toronto
BEGIN:DAYLIGHT
TZNAME:EDT
TZOFFSETFROM:-0500
TZOFFSETTO:-0400
DTSTART:20160313T070000
END:DAYLIGHT
BEGIN:STANDARD
TZNAME:EST
TZOFFSETFROM:-0400
TZOFFSETTO:-0500
DTSTART:20151101T060000
END:STANDARD
END:VTIMEZONE
BEGIN:VEVENT
UID:69eadbdcf18f3
DTSTART;TZID=America/Toronto:20161015T143000
SEQUENCE:0
TRANSP:TRANSPARENT
DTEND;TZID=America/Toronto:20161015T143000
URL:https://uwaterloo.ca/institute-for-quantum-computing/events/qubit-club-
 quantum-kids-0
LOCATION:THEMUSEUM 10 King St. W. Kitchener ON N2G 1A3 Canada
SUMMARY:The Qubit Club - Quantum for Kids!
CLASS:PUBLIC
DESCRIPTION:What is quantum? Join us for the Qubit Club at THEMUSEUM to lea
 rn all\nabout quantum with some fun and exciting science demonstrations!
DTSTAMP:20260424T025628Z
END:VEVENT
END:VCALENDAR