BEGIN:VCALENDAR
VERSION:2.0
PRODID:-//Drupal iCal API//EN
X-WR-CALNAME:Events items teaser
X-WR-TIMEZONE:America/Toronto
BEGIN:VTIMEZONE
TZID:America/Toronto
X-LIC-LOCATION:America/Toronto
BEGIN:DAYLIGHT
TZNAME:EDT
TZOFFSETFROM:-0500
TZOFFSETTO:-0400
DTSTART:20160313T070000
END:DAYLIGHT
BEGIN:STANDARD
TZNAME:EST
TZOFFSETFROM:-0400
TZOFFSETTO:-0500
DTSTART:20151101T060000
END:STANDARD
END:VTIMEZONE
BEGIN:VEVENT
UID:69ea40be24cf5
DTSTART;TZID=America/Toronto:20161019T183000
SEQUENCE:0
TRANSP:TRANSPARENT
DTEND;TZID=America/Toronto:20161019T183000
URL:https://uwaterloo.ca/institute-for-quantum-computing/events/beer-scienc
 e-shohini-ghose
LOCATION:THEMUSEUM 10 King St. W. Kitchener ON N2G 1A3 Canada
SUMMARY:Beer + Science with Shohini Ghose
CLASS:PUBLIC
DESCRIPTION:Come get your nerd on and learn about the world of physics with
  Nerd\nNite KW! They will take you through quantum 101\, and then see if y
 ou\nwere paying attention with some friendly rounds of trivia. Aspiring\ns
 cientists and experts alike are welcome. Special guest speaker Dr.\nShohin
 i Ghose\, an Associate Professor of Physics and Computer Science\nand Dire
 ctor of the Centre for Women in Science at Wilfrid Laurier\nUniversity in 
 Canada\, will also be giving a presentation. Make sure to\nalso check out 
 QUANTUM: The Exhibition while you're there.
DTSTAMP:20260423T155438Z
END:VEVENT
END:VCALENDAR