BEGIN:VCALENDAR
VERSION:2.0
PRODID:-//Drupal iCal API//EN
X-WR-CALNAME:Events items teaser
X-WR-TIMEZONE:America/Toronto
BEGIN:VTIMEZONE
TZID:America/Toronto
X-LIC-LOCATION:America/Toronto
BEGIN:DAYLIGHT
TZNAME:EDT
TZOFFSETFROM:-0500
TZOFFSETTO:-0400
DTSTART:20160313T070000
END:DAYLIGHT
BEGIN:STANDARD
TZNAME:EST
TZOFFSETFROM:-0400
TZOFFSETTO:-0500
DTSTART:20161106T060000
END:STANDARD
END:VTIMEZONE
BEGIN:VEVENT
UID:69e74f26710ef
DTSTART;TZID=America/Toronto:20161117T113000
SEQUENCE:0
TRANSP:TRANSPARENT
DTEND;TZID=America/Toronto:20161117T113000
URL:https://uwaterloo.ca/institute-for-quantum-computing/events/phd-thesis-
 john-donohue
LOCATION:QNC - Quantum Nano Centre 200 University Avenue West 0101 Waterloo
  ON N2L 3G1 Canada
SUMMARY:PhD Thesis - John Donohue
CLASS:PUBLIC
DESCRIPTION:[John Donohue]John Donohue of the Department of Physics and Ast
 ronomy\nis defending his thesis:\n\nUltrafast manipulation of single photo
 ns using dispersion and\nsum-frequency generation\n\nJohn is supervised by
  Associate Professor Kevin Resch.
DTSTAMP:20260421T101918Z
END:VEVENT
END:VCALENDAR