BEGIN:VCALENDAR
VERSION:2.0
PRODID:-//Drupal iCal API//EN
X-WR-CALNAME:Events items teaser
X-WR-TIMEZONE:America/Toronto
BEGIN:VTIMEZONE
TZID:America/Toronto
X-LIC-LOCATION:America/Toronto
BEGIN:DAYLIGHT
TZNAME:EDT
TZOFFSETFROM:-0500
TZOFFSETTO:-0400
DTSTART:20160313T070000
END:DAYLIGHT
BEGIN:STANDARD
TZNAME:EST
TZOFFSETFROM:-0400
TZOFFSETTO:-0500
DTSTART:20161106T060000
END:STANDARD
END:VTIMEZONE
BEGIN:VEVENT
UID:69e764c99fc93
DTSTART;TZID=America/Toronto:20161206T140000
SEQUENCE:0
TRANSP:TRANSPARENT
DTEND;TZID=America/Toronto:20161206T140000
URL:https://uwaterloo.ca/institute-for-quantum-computing/events/phd-thesis-
 greg-holloway
LOCATION:PHY - Physics 200 University Avenue West 352 Waterloo ON N2L 3G1 C
 anada
SUMMARY:PhD Thesis - Greg Holloway
CLASS:PUBLIC
DESCRIPTION:[Greg Holloway]Greg Holloway of the Department of Physics and\n
 Astronomy is defending his thesis:\n\nElectron transport in semiconducting
  nanowires and quantum dots\n\nGreg is supervised by Associate Professor J
 oanthan Baugh.
DTSTAMP:20260421T115137Z
END:VEVENT
END:VCALENDAR