BEGIN:VCALENDAR
VERSION:2.0
PRODID:-//Drupal iCal API//EN
X-WR-CALNAME:Events items teaser
X-WR-TIMEZONE:America/Toronto
BEGIN:VTIMEZONE
TZID:America/Toronto
X-LIC-LOCATION:America/Toronto
BEGIN:DAYLIGHT
TZNAME:EDT
TZOFFSETFROM:-0500
TZOFFSETTO:-0400
DTSTART:20160313T070000
END:DAYLIGHT
BEGIN:STANDARD
TZNAME:EST
TZOFFSETFROM:-0400
TZOFFSETTO:-0500
DTSTART:20161106T060000
END:STANDARD
END:VTIMEZONE
BEGIN:VEVENT
UID:69e764cc250a4
DTSTART;TZID=America/Toronto:20161212T143000
SEQUENCE:0
TRANSP:TRANSPARENT
DTEND;TZID=America/Toronto:20161212T143000
URL:https://uwaterloo.ca/institute-for-quantum-computing/events/phd-thesis-
 matthew-graydon
LOCATION:PHY - Physics 200 University Avenue West 352 Waterloo ON N2L 3G1 C
 anada
SUMMARY:PhD Thesis - Matthew Graydon
CLASS:PUBLIC
DESCRIPTION:[Matthew Graydon]Matthew Graydon of the Department of Physics a
 nd\nAstronomy is defending his thesis:\n\nConical Designs and Categorical 
 Jordan Algebraic Post-Quantum Theories\n\nMatthew is supervised by Associa
 te Professor Kevin Resch and Rob\nSpekkens (Perimeter Institute for Theore
 tical Physics).
DTSTAMP:20260421T115140Z
END:VEVENT
END:VCALENDAR