BEGIN:VCALENDAR
VERSION:2.0
PRODID:-//Drupal iCal API//EN
X-WR-CALNAME:Events items teaser
X-WR-TIMEZONE:America/Toronto
BEGIN:VTIMEZONE
TZID:America/Toronto
X-LIC-LOCATION:America/Toronto
BEGIN:DAYLIGHT
TZNAME:EDT
TZOFFSETFROM:-0500
TZOFFSETTO:-0400
DTSTART:20160313T070000
END:DAYLIGHT
BEGIN:STANDARD
TZNAME:EST
TZOFFSETFROM:-0400
TZOFFSETTO:-0500
DTSTART:20161106T060000
END:STANDARD
END:VTIMEZONE
BEGIN:VEVENT
UID:69e764c8253fd
DTSTART;TZID=America/Toronto:20161215T140000
SEQUENCE:0
TRANSP:TRANSPARENT
DTEND;TZID=America/Toronto:20161215T140000
URL:https://uwaterloo.ca/institute-for-quantum-computing/events/masters-the
 sis-guillaume-verdon-akzam
LOCATION:MC - Mathematics &amp; Computer Building 200 University Avenue West 64
 60 Waterloo ON N2L 3G1 Canada
SUMMARY:Master's thesis - Guillaume Verdon-Akzam
CLASS:PUBLIC
DESCRIPTION:[Guillaume Verdon-Akzam]Guillaume Verdon-Akzam of the Departmen
 t of\nApplied Mathematics is defending his thesis:\n\nProbing Quantum Fiel
 ds: Measurements and Quantum Energy Teleportation\n\nGuillaume is supervis
 ed by IQC Associate Achim Kempf.
DTSTAMP:20260421T115136Z
END:VEVENT
END:VCALENDAR