BEGIN:VCALENDAR
VERSION:2.0
PRODID:-//Drupal iCal API//EN
X-WR-CALNAME:Events items teaser
X-WR-TIMEZONE:America/Toronto
BEGIN:VTIMEZONE
TZID:America/Toronto
X-LIC-LOCATION:America/Toronto
BEGIN:DAYLIGHT
TZNAME:EDT
TZOFFSETFROM:-0500
TZOFFSETTO:-0400
DTSTART:20160313T070000
END:DAYLIGHT
BEGIN:STANDARD
TZNAME:EST
TZOFFSETFROM:-0400
TZOFFSETTO:-0500
DTSTART:20161106T060000
END:STANDARD
END:VTIMEZONE
BEGIN:VEVENT
UID:69e688e3564e3
DTSTART;TZID=America/Toronto:20170223T190000
SEQUENCE:0
TRANSP:TRANSPARENT
DTEND;TZID=America/Toronto:20170223T190000
URL:https://uwaterloo.ca/institute-for-quantum-computing/events/quantum-sho
 rts-and-quantum-applications
LOCATION:QNC - Quantum Nano Centre 200 University Avenue West Lazaridis QNC
  0101 Waterloo ON N2L 3G1 Canada
SUMMARY:Quantum Shorts and Quantum Applications
CLASS:PUBLIC
DESCRIPTION:SHORT FILM FESTIVAL + PUBLIC LECTURE BY MARTIN LAFOREST\n\nJoin
  us for a night of film and science. The Institute for Quantum\nComputing 
 has partnered with the Centre for Quantum Technologies in\nSingapore to ho
 st a festival for quantum-inspired films. The screening\nof the top 10 sho
 rt films will be followed by a lecture by Senior\nManager\, Scientific Out
 reach\, Martin Laforest about the applications\nof quantum devices. He wil
 l delve into what we know quantum devices\nwill be used for (that will aff
 ect everyone) and where researchers are\nhoping they will be used in the f
 uture.
DTSTAMP:20260420T201323Z
END:VEVENT
END:VCALENDAR