BEGIN:VCALENDAR
VERSION:2.0
PRODID:-//Drupal iCal API//EN
X-WR-CALNAME:Events items teaser
X-WR-TIMEZONE:America/Toronto
BEGIN:VTIMEZONE
TZID:America/Toronto
X-LIC-LOCATION:America/Toronto
BEGIN:DAYLIGHT
TZNAME:EDT
TZOFFSETFROM:-0500
TZOFFSETTO:-0400
DTSTART:20160313T070000
END:DAYLIGHT
BEGIN:STANDARD
TZNAME:EST
TZOFFSETFROM:-0400
TZOFFSETTO:-0500
DTSTART:20161106T060000
END:STANDARD
END:VTIMEZONE
BEGIN:VEVENT
UID:69e764cfab65e
DTSTART;TZID=America/Toronto:20170201T150000
SEQUENCE:0
TRANSP:TRANSPARENT
DTEND;TZID=America/Toronto:20170201T150000
URL:https://uwaterloo.ca/institute-for-quantum-computing/events/phd-thesis-
 vincent-russo
LOCATION:QNC - Quantum Nano Centre 200 University Avenue West B201 Waterloo
  ON N2L 3G1 Canada
SUMMARY:PhD Thesis - Vincent Russo
CLASS:PUBLIC
DESCRIPTION:Vincent Russo of the Department of Computer Science is defendin
 g his\nthesis:\n\nExtended nonlocal games\n\nVincent is supervised by IQC 
 faculty members John Watrous and Michele\nMosca.
DTSTAMP:20260421T115143Z
END:VEVENT
END:VCALENDAR