BEGIN:VCALENDAR
VERSION:2.0
PRODID:-//Drupal iCal API//EN
X-WR-CALNAME:Events items teaser
X-WR-TIMEZONE:America/Toronto
BEGIN:VTIMEZONE
TZID:America/Toronto
X-LIC-LOCATION:America/Toronto
BEGIN:DAYLIGHT
TZNAME:EDT
TZOFFSETFROM:-0500
TZOFFSETTO:-0400
DTSTART:20170312T070000
END:DAYLIGHT
BEGIN:STANDARD
TZNAME:EST
TZOFFSETFROM:-0400
TZOFFSETTO:-0500
DTSTART:20161106T060000
END:STANDARD
END:VTIMEZONE
BEGIN:VEVENT
UID:69e5853b0fe0e
DTSTART;TZID=America/Toronto:20170425T120000
SEQUENCE:0
TRANSP:TRANSPARENT
DTEND;TZID=America/Toronto:20170425T130000
URL:https://uwaterloo.ca/institute-for-quantum-computing/events/cryptoworks
 21-ethical-behaviour-and-confidentiality
LOCATION:QNC - Quantum Nano Centre 200 University Avenue West 1501 Waterloo
  ON N2L 3G1 Canada
SUMMARY:CryptoWorks21 - Ethical Behaviour and Confidentiality
CLASS:PUBLIC
DESCRIPTION:This is the sixth of the Intellectual Property (IP) Management 
 Lunch\nand Learn Lecture Series. We are bringing in thought leaders in the
 \nprotection and management of intellectual property\, including many\nyea
 rs of experience in relevant areas of information technology.\n\nThis sess
 ion will be led by Viona Duncan.
DTSTAMP:20260420T014531Z
END:VEVENT
END:VCALENDAR