BEGIN:VCALENDAR
VERSION:2.0
PRODID:-//Drupal iCal API//EN
X-WR-CALNAME:Events items teaser
X-WR-TIMEZONE:America/Toronto
BEGIN:VTIMEZONE
TZID:America/Toronto
X-LIC-LOCATION:America/Toronto
BEGIN:DAYLIGHT
TZNAME:EDT
TZOFFSETFROM:-0500
TZOFFSETTO:-0400
DTSTART:20170312T070000
END:DAYLIGHT
BEGIN:STANDARD
TZNAME:EST
TZOFFSETFROM:-0400
TZOFFSETTO:-0500
DTSTART:20161106T060000
END:STANDARD
END:VTIMEZONE
BEGIN:VEVENT
UID:69e75a8e7174e
DTSTART;TZID=America/Toronto:20170322T110000
SEQUENCE:0
TRANSP:TRANSPARENT
DTEND;TZID=America/Toronto:20170322T110000
URL:https://uwaterloo.ca/institute-for-quantum-computing/events/seminar-moh
 ammad-ansari
LOCATION:QNC - Quantum Nano Centre 200 University Avenue West 0101 Waterloo
  ON N2L 3G1 Canada
SUMMARY:Seminar: Mohammad Ansari
CLASS:PUBLIC
DESCRIPTION:ENTROPY MEASUREMENT IN QUANTUM SYSTEMS\n\nDR. MOHAMMAD ANSARI\,
  PETER GRÜNBERG INSTITUTE\, AND JÜLICH-AACHEN\nRESEARCH ALLIANCE INSTIT
 UTE (JARA)\n\nEntropy is an important information measure. A complete unde
 rstanding\nof entropy flow will have applications in quantum thermodynamic
 s and\nbeyond\; for example it may help to identify the sources of fidelit
 y\nloss in quantum communications and methods to prevent or control them.\
 nBeing nonlinear in density matrix\, its evaluation for quantum systems\nr
 equires simultaneous evolution of more-than-one density matrix.
DTSTAMP:20260421T110758Z
END:VEVENT
END:VCALENDAR