BEGIN:VCALENDAR
VERSION:2.0
PRODID:-//Drupal iCal API//EN
X-WR-CALNAME:Events items teaser
X-WR-TIMEZONE:America/Toronto
BEGIN:VTIMEZONE
TZID:America/Toronto
X-LIC-LOCATION:America/Toronto
BEGIN:DAYLIGHT
TZNAME:EDT
TZOFFSETFROM:-0500
TZOFFSETTO:-0400
DTSTART:20210314T070000
END:DAYLIGHT
BEGIN:STANDARD
TZNAME:EST
TZOFFSETFROM:-0400
TZOFFSETTO:-0500
DTSTART:20201101T060000
END:STANDARD
END:VTIMEZONE
BEGIN:VEVENT
UID:69e94b33e9908
DTSTART;TZID=America/Toronto:20210803T000000
SEQUENCE:0
TRANSP:TRANSPARENT
DTEND;TZID=America/Toronto:20210813T000000
URL:https://uwaterloo.ca/institute-for-quantum-computing/events/quantum-cry
 ptography-school-young-students-qcsys
SUMMARY:Quantum Cryptography School for Young Students (QCSYS)
CLASS:PUBLIC
DESCRIPTION:Discover how mathematics\, physics\, computer science\, enginee
 ring\, and\nmore combine into one of the most exciting topics in modern sc
 ience\n– quantum information – at the Quantum Cryptography School for\
 nYoung Students (QCSYS). QCSYS is a unique enrichment program for\nhigh 
 school students that will run this August.\n\nQCSYS will be a free\, onli
 ne program that offers a blend of expert\nlectures\, small group discussio
 ns\, problem solving\, and opportunities\nfor mentoring and networking wit
 h world-leading quantum researchers.\n\nYou will:
DTSTAMP:20260422T222659Z
END:VEVENT
END:VCALENDAR