BEGIN:VCALENDAR
VERSION:2.0
PRODID:-//Drupal iCal API//EN
X-WR-CALNAME:Events items teaser
X-WR-TIMEZONE:America/Toronto
BEGIN:VTIMEZONE
TZID:America/Toronto
X-LIC-LOCATION:America/Toronto
BEGIN:DAYLIGHT
TZNAME:EDT
TZOFFSETFROM:-0500
TZOFFSETTO:-0400
DTSTART:20170312T070000
END:DAYLIGHT
BEGIN:STANDARD
TZNAME:EST
TZOFFSETFROM:-0400
TZOFFSETTO:-0500
DTSTART:20161106T060000
END:STANDARD
END:VTIMEZONE
BEGIN:VEVENT
UID:69e778dede62e
DTSTART;TZID=America/Toronto:20170510T140000
SEQUENCE:0
TRANSP:TRANSPARENT
DTEND;TZID=America/Toronto:20170510T140000
URL:https://uwaterloo.ca/institute-for-quantum-computing/events/phd-thesis-
 joachim-nsofini
LOCATION:PHY - Physics 200 University Avenue West 352 Waterloo ON N2L 3G1 C
 anada
SUMMARY:PhD Thesis - Joachim Nsofini
CLASS:PUBLIC
DESCRIPTION:Joachim Nsofini of the Department of Physics and Astronomy is\n
 defending his thesis:\n\nQuantum Information Enabled Neutron Interferometr
 y\n\nJoachim is supervised by IQC faculty member David Cory.
DTSTAMP:20260421T131718Z
END:VEVENT
END:VCALENDAR