BEGIN:VCALENDAR
VERSION:2.0
PRODID:-//Drupal iCal API//EN
X-WR-CALNAME:Events items teaser
X-WR-TIMEZONE:America/Toronto
BEGIN:VTIMEZONE
TZID:America/Toronto
X-LIC-LOCATION:America/Toronto
BEGIN:DAYLIGHT
TZNAME:EDT
TZOFFSETFROM:-0500
TZOFFSETTO:-0400
DTSTART:20170312T070000
END:DAYLIGHT
BEGIN:STANDARD
TZNAME:EST
TZOFFSETFROM:-0400
TZOFFSETTO:-0500
DTSTART:20161106T060000
END:STANDARD
END:VTIMEZONE
BEGIN:VEVENT
UID:69e793fc35d3b
DTSTART;TZID=America/Toronto:20170727T150000
SEQUENCE:0
TRANSP:TRANSPARENT
DTEND;TZID=America/Toronto:20170727T200000
URL:https://uwaterloo.ca/institute-for-quantum-computing/events/quantum-mec
 hanics-golf-tournament-nine-dine
LOCATION:Foxwood Gold and Country Club 2777 Erb's Road Baden ON N3A 4J3 Can
 ada
SUMMARY:The Quantum Mechanics Golf Tournament Nine + Dine
CLASS:PUBLIC
DESCRIPTION:Come play in The Quantum Mechanics Golf Tournament and join the
  fight\nagainst cancer\n\nThe Quantum Mechanics are asking for your suppor
 t in the fight against\ncancer.\n\nThe team\, made of University of Waterl
 oo\, Institute for Quantum\nComputing (IQC) and Perimeter Institute member
 s\, is participating in\nthe Grand Ride in honour of Pearl Sullivan\, Dean
  of Engineering and\nRaymond Laflamme\, Executive Director of IQC at the U
 niversity of\nWaterloo and all those in our communities who have been touc
 hed by\ncancer.
DTSTAMP:20260421T151300Z
END:VEVENT
END:VCALENDAR