BEGIN:VCALENDAR
VERSION:2.0
PRODID:-//Drupal iCal API//EN
X-WR-CALNAME:Events items teaser
X-WR-TIMEZONE:America/Toronto
BEGIN:VTIMEZONE
TZID:America/Toronto
X-LIC-LOCATION:America/Toronto
BEGIN:DAYLIGHT
TZNAME:EDT
TZOFFSETFROM:-0500
TZOFFSETTO:-0400
DTSTART:20170312T070000
END:DAYLIGHT
BEGIN:STANDARD
TZNAME:EST
TZOFFSETFROM:-0400
TZOFFSETTO:-0500
DTSTART:20161106T060000
END:STANDARD
END:VTIMEZONE
BEGIN:VEVENT
UID:69e75086d247f
DTSTART;TZID=America/Toronto:20170727T100000
SEQUENCE:0
TRANSP:TRANSPARENT
DTEND;TZID=America/Toronto:20170727T100000
URL:https://uwaterloo.ca/institute-for-quantum-computing/events/phd-thesis-
 paulina-corona-ugalde
LOCATION:PHY - Physics 200 University Avenue West 352 Waterloo ON N2L 3G1 C
 anada
SUMMARY:PhD Thesis - Paulina Corona Ugalde
CLASS:PUBLIC
DESCRIPTION:[Paulina Corona Ugalde]Paulina Corona Ugalde of the Department 
 of\nPhysics and Astronomy is defending her thesis:\n\nExperimental Prospec
 ts for Detecting the Quantum Nature of Spacetime\n\nPaulina is supervised 
 by IQC associate Robert Mann
DTSTAMP:20260421T102510Z
END:VEVENT
END:VCALENDAR