BEGIN:VCALENDAR
VERSION:2.0
PRODID:-//Drupal iCal API//EN
X-WR-CALNAME:Events items teaser
X-WR-TIMEZONE:America/Toronto
BEGIN:VTIMEZONE
TZID:America/Toronto
X-LIC-LOCATION:America/Toronto
BEGIN:DAYLIGHT
TZNAME:EDT
TZOFFSETFROM:-0500
TZOFFSETTO:-0400
DTSTART:20170312T070000
END:DAYLIGHT
BEGIN:STANDARD
TZNAME:EST
TZOFFSETFROM:-0400
TZOFFSETTO:-0500
DTSTART:20161106T060000
END:STANDARD
END:VTIMEZONE
BEGIN:VEVENT
UID:69e793fbb0678
DTSTART;TZID=America/Toronto:20170728T120000
SEQUENCE:0
TRANSP:TRANSPARENT
DTEND;TZID=America/Toronto:20170728T120000
URL:https://uwaterloo.ca/institute-for-quantum-computing/events/masters-the
 sis-allison-sachs
LOCATION:PHY - Physics 200 University Avenue West 352 Waterloo ON N2L 3G1 C
 anada
SUMMARY:Master's Thesis - Allison Sachs
CLASS:PUBLIC
DESCRIPTION:[Allison Sachs]Allison Sachs of the Department of Physics and\n
 Astronomy is defending her thesis:\n\nEntanglement Harvesting and Divergen
 ces in Unruh-DeWitt Detector Pairs\n\nAllison is supervised by IQC associa
 tes Robert Mann and Eduardo\nMartin-Martinez.
DTSTAMP:20260421T151259Z
END:VEVENT
END:VCALENDAR