BEGIN:VCALENDAR
VERSION:2.0
PRODID:-//Drupal iCal API//EN
X-WR-CALNAME:Events items teaser
X-WR-TIMEZONE:America/Toronto
BEGIN:VTIMEZONE
TZID:America/Toronto
X-LIC-LOCATION:America/Toronto
BEGIN:DAYLIGHT
TZNAME:EDT
TZOFFSETFROM:-0500
TZOFFSETTO:-0400
DTSTART:20170312T070000
END:DAYLIGHT
BEGIN:STANDARD
TZNAME:EST
TZOFFSETFROM:-0400
TZOFFSETTO:-0500
DTSTART:20161106T060000
END:STANDARD
END:VTIMEZONE
BEGIN:VEVENT
UID:69e793fb1d379
DTSTART;TZID=America/Toronto:20170809T140000
SEQUENCE:0
TRANSP:TRANSPARENT
DTEND;TZID=America/Toronto:20170809T140000
URL:https://uwaterloo.ca/institute-for-quantum-computing/events/yongchao-ta
 ng-phd-defence
LOCATION:EIT - Centre for Environmental and Information Technology 200 Univ
 ersity Avenue West 3142 Waterloo ON N2L 3G1 Canada
SUMMARY:Yongchao Tang - PhD defence
CLASS:PUBLIC
DESCRIPTION:[Yongchao Tang]Yongchao Tang of the Department of Electrical an
 d\nComputer Engineering is presenting his thesis:\n\nSuperconducting Reson
 ator with Composite Film and Circuit Layout\nDesign for Quantum Informatio
 n.\n\nYoungchao is supervised by IQC faculty members Guo-Xing Miao and Dav
 id\nCory.
DTSTAMP:20260421T151259Z
END:VEVENT
END:VCALENDAR