BEGIN:VCALENDAR
VERSION:2.0
PRODID:-//Drupal iCal API//EN
X-WR-CALNAME:Events items teaser
X-WR-TIMEZONE:America/Toronto
BEGIN:VTIMEZONE
TZID:America/Toronto
X-LIC-LOCATION:America/Toronto
BEGIN:DAYLIGHT
TZNAME:EDT
TZOFFSETFROM:-0500
TZOFFSETTO:-0400
DTSTART:20170312T070000
END:DAYLIGHT
BEGIN:STANDARD
TZNAME:EST
TZOFFSETFROM:-0400
TZOFFSETTO:-0500
DTSTART:20161106T060000
END:STANDARD
END:VTIMEZONE
BEGIN:VEVENT
UID:69e67bffe9981
DTSTART;TZID=America/Toronto:20170912T120000
SEQUENCE:0
TRANSP:TRANSPARENT
DTEND;TZID=America/Toronto:20170912T120000
URL:https://uwaterloo.ca/institute-for-quantum-computing/events/seminar-qua
 ntum-walks-gravity-simulation
LOCATION:QNC - Quantum Nano Centre 200 University Avenue West 1201 Waterloo
  ON N2L 3G1 Canada
SUMMARY:Seminar: Quantum Walks Gravity Simulation
CLASS:PUBLIC
DESCRIPTION:GIUSEPPE DI MOLFETTA\, UNIVERSITY OF MARSEILLE\n\nAs we know\,
  spacetime is not flat at the cosmological scale. In order\nto describe sp
 acetime\, in General Relativity theory (GR)\, we need a\ncontinuous and di
 fferentiable manifold and a formal way to account for\nthe continuous dist
 ortion of the metrics. The main point is that\nchanging coordinate systems
  should not affect physics laws (General\nCovariance). However at the Plan
 ck length\, matter is not continuous\nand obeys Quantum Theory (QT).
DTSTAMP:20260420T191823Z
END:VEVENT
END:VCALENDAR