BEGIN:VCALENDAR
VERSION:2.0
PRODID:-//Drupal iCal API//EN
X-WR-CALNAME:Events items teaser
X-WR-TIMEZONE:America/Toronto
BEGIN:VTIMEZONE
TZID:America/Toronto
X-LIC-LOCATION:America/Toronto
BEGIN:DAYLIGHT
TZNAME:EDT
TZOFFSETFROM:-0500
TZOFFSETTO:-0400
DTSTART:20170312T070000
END:DAYLIGHT
BEGIN:STANDARD
TZNAME:EST
TZOFFSETFROM:-0400
TZOFFSETTO:-0500
DTSTART:20161106T060000
END:STANDARD
END:VTIMEZONE
BEGIN:VEVENT
UID:69e793f9cb4dc
DTSTART;TZID=America/Toronto:20170914T110000
SEQUENCE:0
TRANSP:TRANSPARENT
DTEND;TZID=America/Toronto:20170914T110000
URL:https://uwaterloo.ca/institute-for-quantum-computing/events/masters-the
 sis-christopher-warren
LOCATION:PHY - Physics 200 University Avenue West 308 Waterloo ON N2L 3G1 C
 anada
SUMMARY:Master's Thesis - Christopher Warren
CLASS:PUBLIC
DESCRIPTION:Christopher Warren of the Department of Physics and Astronomy i
 s\npresenting his thesis:\n\nTowards Analog Quantum Simulation of Lattice 
 Gauge Fields\n\nChristopher is supervised by IQC faculty member Christophe
 r Wilson.
DTSTAMP:20260421T151257Z
END:VEVENT
END:VCALENDAR