BEGIN:VCALENDAR
VERSION:2.0
PRODID:-//Drupal iCal API//EN
X-WR-CALNAME:Events items teaser
X-WR-TIMEZONE:America/Toronto
BEGIN:VTIMEZONE
TZID:America/Toronto
X-LIC-LOCATION:America/Toronto
BEGIN:DAYLIGHT
TZNAME:EDT
TZOFFSETFROM:-0500
TZOFFSETTO:-0400
DTSTART:20170312T070000
END:DAYLIGHT
BEGIN:STANDARD
TZNAME:EST
TZOFFSETFROM:-0400
TZOFFSETTO:-0500
DTSTART:20161106T060000
END:STANDARD
END:VTIMEZONE
BEGIN:VEVENT
UID:69e764c329c9d
DTSTART;TZID=America/Toronto:20170928T130000
SEQUENCE:0
TRANSP:TRANSPARENT
DTEND;TZID=America/Toronto:20170928T130000
URL:https://uwaterloo.ca/institute-for-quantum-computing/events/masters-the
 sis-christian-mastromattei
LOCATION:QNC - Quantum Nano Centre 200 University Avenue West 4101 Waterloo
  ON N2L 3G1 Canada
SUMMARY:Master's Thesis - Christian Mastromattei
CLASS:PUBLIC
DESCRIPTION:Christian Mastromattei of the Department of Physics and Astrono
 my is\npresenting his thesis:\n\nAssessing the Practicality of a Simple Mu
 lti-node Quantum Repeater\n\nChristopher is supervised by IQC faculty memb
 er Norbert Lütkenhaus.
DTSTAMP:20260421T115131Z
END:VEVENT
END:VCALENDAR