BEGIN:VCALENDAR
VERSION:2.0
PRODID:-//Drupal iCal API//EN
X-WR-CALNAME:Events items teaser
X-WR-TIMEZONE:America/Toronto
BEGIN:VTIMEZONE
TZID:America/Toronto
X-LIC-LOCATION:America/Toronto
BEGIN:DAYLIGHT
TZNAME:EDT
TZOFFSETFROM:-0500
TZOFFSETTO:-0400
DTSTART:20170312T070000
END:DAYLIGHT
BEGIN:STANDARD
TZNAME:EST
TZOFFSETFROM:-0400
TZOFFSETTO:-0500
DTSTART:20161106T060000
END:STANDARD
END:VTIMEZONE
BEGIN:VEVENT
UID:69e764c125fcd
DTSTART;TZID=America/Toronto:20171017T130000
SEQUENCE:0
TRANSP:TRANSPARENT
DTEND;TZID=America/Toronto:20171017T130000
URL:https://uwaterloo.ca/institute-for-quantum-computing/events/masters-the
 sis-jie-lin
LOCATION:QNC - Quantum Nano Centre 200 University Avenue West 3206 Waterloo
  ON N2L 3G1 Canada
SUMMARY:Master's Thesis - Jie Lin
CLASS:PUBLIC
DESCRIPTION:Jie Lin of the Department of Physics and Astronomy is presentin
 g his\nthesis:\n\nSecurity proofs for quantum key distribution protocols b
 y numerical\napproaches\n\nJie is supervised by IQC faculty member Norbert
  Lütkenhaus.
DTSTAMP:20260421T115129Z
END:VEVENT
END:VCALENDAR