BEGIN:VCALENDAR
VERSION:2.0
PRODID:-//Drupal iCal API//EN
X-WR-CALNAME:Events items teaser
X-WR-TIMEZONE:America/Toronto
BEGIN:VTIMEZONE
TZID:America/Toronto
X-LIC-LOCATION:America/Toronto
BEGIN:DAYLIGHT
TZNAME:EDT
TZOFFSETFROM:-0500
TZOFFSETTO:-0400
DTSTART:20170312T070000
END:DAYLIGHT
BEGIN:STANDARD
TZNAME:EST
TZOFFSETFROM:-0400
TZOFFSETTO:-0500
DTSTART:20161106T060000
END:STANDARD
END:VTIMEZONE
BEGIN:VEVENT
UID:69e6e4b82beb2
DTSTART;TZID=America/Toronto:20171006T133500
SEQUENCE:0
TRANSP:TRANSPARENT
DTEND;TZID=America/Toronto:20171006T133500
URL:https://uwaterloo.ca/institute-for-quantum-computing/events/rac1-journa
 l-clubseminar-series-11
LOCATION:RAC - Research Advancement Centre 475 Wes Graham Way 2009 Waterloo
  ON N2L 6R2 Canada
SUMMARY:RAC1 Journal Club/Seminar Series
CLASS:PUBLIC
DESCRIPTION:PRODUCING POLARIZATION ENTANGLED STATES USING A BRIGHT SINGLE P
 HOTON\nSOURCE
DTSTAMP:20260421T024512Z
END:VEVENT
END:VCALENDAR