BEGIN:VCALENDAR
VERSION:2.0
PRODID:-//Drupal iCal API//EN
X-WR-CALNAME:Events items teaser
X-WR-TIMEZONE:America/Toronto
BEGIN:VTIMEZONE
TZID:America/Toronto
X-LIC-LOCATION:America/Toronto
BEGIN:DAYLIGHT
TZNAME:EDT
TZOFFSETFROM:-0500
TZOFFSETTO:-0400
DTSTART:20170312T070000
END:DAYLIGHT
BEGIN:STANDARD
TZNAME:EST
TZOFFSETFROM:-0400
TZOFFSETTO:-0500
DTSTART:20171105T060000
END:STANDARD
END:VTIMEZONE
BEGIN:VEVENT
UID:69e67bf6e0d7b
DTSTART;TZID=America/Toronto:20171106T143000
SEQUENCE:0
TRANSP:TRANSPARENT
DTEND;TZID=America/Toronto:20171106T143000
URL:https://uwaterloo.ca/institute-for-quantum-computing/events/topological
 -photonics-classical-quantum
LOCATION:QNC - Quantum Nano Centre 200 University Avenue West 0101 Waterloo
  ON N2L 3G1 Canada
SUMMARY:Topological photonics: classical to quantum
CLASS:PUBLIC
DESCRIPTION:COLLOQUIUM: MOHAMMAD HAFEZI\, UNIVERSITY OF MARYLAND/JOINT QUA
 NTUM\nINSTITUTE\n\nThere are tremendous efforts underway to better underst
 and systems\nwith topological order --- global properties that are not dis
 cernible\nlocally. The best-known examples are quantum Hall effects in\nel
 ectronic systems\, where insensitivity to local properties manifests\nitse
 lf as conductance through edge states which are insensitive to\ndefects an
 d disorder.
DTSTAMP:20260420T191814Z
END:VEVENT
END:VCALENDAR