BEGIN:VCALENDAR
VERSION:2.0
PRODID:-//Drupal iCal API//EN
X-WR-CALNAME:Events items teaser
X-WR-TIMEZONE:America/Toronto
BEGIN:VTIMEZONE
TZID:America/Toronto
X-LIC-LOCATION:America/Toronto
BEGIN:DAYLIGHT
TZNAME:EDT
TZOFFSETFROM:-0500
TZOFFSETTO:-0400
DTSTART:20170312T070000
END:DAYLIGHT
BEGIN:STANDARD
TZNAME:EST
TZOFFSETFROM:-0400
TZOFFSETTO:-0500
DTSTART:20161106T060000
END:STANDARD
END:VTIMEZONE
BEGIN:VEVENT
UID:69e6cb350a6d4
DTSTART;TZID=America/Toronto:20171016T143000
SEQUENCE:0
TRANSP:TRANSPARENT
DTEND;TZID=America/Toronto:20171016T143000
URL:https://uwaterloo.ca/institute-for-quantum-computing/events/colloquium-
 search-toric-code-topological-order-kagome
LOCATION:QNC - Quantum Nano Centre 200 University Avenue West 0101 Waterloo
  ON N2L 3G1 Canada
SUMMARY:Colloquium: Search for a toric code topological order in the kagome
 \nantiferromagnet
CLASS:PUBLIC
DESCRIPTION:JIAWEI MEI - SOUTHERN UNIVERSITY OF SCIENCE AND TECHNOLOGY\, CH
 INA\n\nThe toric code is a topological quantum error correcting code\, and
  an\nexample of a stabilizer code\, defined on a two-dimensional spin\nlat
 tice. It also represents the simplest example of topological order\n-- Z2 
 topological order that was first studied in the context of Z2\nspin liquid
 . I will talk about our recent progress in the search for a\ntoric code to
 pological order in the kagome antiferromagnetic spin\nsystem.
DTSTAMP:20260421T005621Z
END:VEVENT
END:VCALENDAR