BEGIN:VCALENDAR
VERSION:2.0
PRODID:-//Drupal iCal API//EN
X-WR-CALNAME:Events items teaser
X-WR-TIMEZONE:America/Toronto
BEGIN:VTIMEZONE
TZID:America/Toronto
X-LIC-LOCATION:America/Toronto
BEGIN:DAYLIGHT
TZNAME:EDT
TZOFFSETFROM:-0500
TZOFFSETTO:-0400
DTSTART:20170312T070000
END:DAYLIGHT
BEGIN:STANDARD
TZNAME:EST
TZOFFSETFROM:-0400
TZOFFSETTO:-0500
DTSTART:20161106T060000
END:STANDARD
END:VTIMEZONE
BEGIN:VEVENT
UID:69e6cb2f0fef1
DTSTART;TZID=America/Toronto:20171011T130000
SEQUENCE:0
TRANSP:TRANSPARENT
DTEND;TZID=America/Toronto:20171011T130000
URL:https://uwaterloo.ca/institute-for-quantum-computing/events/toward-firs
 t-quantum-simulation-quantum-speedup
LOCATION:QNC - Quantum Nano Centre 200 University Avenue West 0101 Waterloo
  ON N2L 3G1 Canada
SUMMARY:Toward the first quantum simulation with quantum speedup
CLASS:PUBLIC
DESCRIPTION:NEIL JULIEN ROSS\, DALHOUSIE UNIVERSITY\n\nAs we approach the d
 evelopment of a quantum computer with tens of\nwell-controlled qubits\, it
  is natural to ask what can be done with\nsuch a device. Specifically\, we
  would like to construct an example of\na practical problem that is beyond
  the reach of classical computers\,\nbut that requires the fewest possible
  resources to solve on a quantum\ncomputer. We address this problem by con
 sidering quantum simulation of\nspin systems\, a task that could be applie
 d to understand phenomena in
DTSTAMP:20260421T005615Z
END:VEVENT
END:VCALENDAR