BEGIN:VCALENDAR
VERSION:2.0
PRODID:-//Drupal iCal API//EN
X-WR-CALNAME:Events items teaser
X-WR-TIMEZONE:America/Toronto
BEGIN:VTIMEZONE
TZID:America/Toronto
X-LIC-LOCATION:America/Toronto
BEGIN:DAYLIGHT
TZNAME:EDT
TZOFFSETFROM:-0500
TZOFFSETTO:-0400
DTSTART:20170312T070000
END:DAYLIGHT
BEGIN:STANDARD
TZNAME:EST
TZOFFSETFROM:-0400
TZOFFSETTO:-0500
DTSTART:20161106T060000
END:STANDARD
END:VTIMEZONE
BEGIN:VEVENT
UID:69e67c0b79d5c
DTSTART;TZID=America/Toronto:20171019T120000
SEQUENCE:0
TRANSP:TRANSPARENT
DTEND;TZID=America/Toronto:20171019T120000
URL:https://uwaterloo.ca/institute-for-quantum-computing/events/cryptoworks
 21-intellectual-property-what-it-and-why-should-i
LOCATION:QNC - Quantum Nano Centre 200 University Avenue West QNC 1201 Wate
 rloo ON N2L 3G1 Canada
SUMMARY:CryptoWorks21 - Intellectual Property: What is it and Why Should I\
 nCare?
CLASS:PUBLIC
DESCRIPTION:Back by popular demand\, CryptoWorks21 will once again launch t
 he\nIntellectual Property (IP) Management Lunch and Learn Lecture Series\n
 [https://cryptoworks21.uwaterloo.ca/news/ip-lecture-series-2/]! Our\nknowl
 edgeable speakers will provide more in-depth presentation built\nfrom the 
 previous sessions.\n\nThe lectures are designed for researchers working in
  areas related to\ninformation technology\, including cryptography and qua
 ntum technology.
DTSTAMP:20260420T191835Z
END:VEVENT
END:VCALENDAR