BEGIN:VCALENDAR
VERSION:2.0
PRODID:-//Drupal iCal API//EN
X-WR-CALNAME:Events items teaser
X-WR-TIMEZONE:America/Toronto
BEGIN:VTIMEZONE
TZID:America/Toronto
X-LIC-LOCATION:America/Toronto
BEGIN:DAYLIGHT
TZNAME:EDT
TZOFFSETFROM:-0500
TZOFFSETTO:-0400
DTSTART:20180311T070000
END:DAYLIGHT
BEGIN:STANDARD
TZNAME:EST
TZOFFSETFROM:-0400
TZOFFSETTO:-0500
DTSTART:20171105T060000
END:STANDARD
END:VTIMEZONE
BEGIN:VEVENT
UID:69e5853d0f40f
DTSTART;TZID=America/Toronto:20180315T120000
SEQUENCE:0
TRANSP:TRANSPARENT
DTEND;TZID=America/Toronto:20180315T120000
URL:https://uwaterloo.ca/institute-for-quantum-computing/events/cryptoworks
 21-inventions-and-value-creation-commercializing
LOCATION:QNC - Quantum Nano Centre 200 University Avenue West QNC 1201 Wate
 rloo ON N2L 3G1 Canada
SUMMARY:CryptoWorks21 - Inventions and Value Creation-Commercializing\nInte
 llectual Property (IP)
CLASS:PUBLIC
DESCRIPTION:SPEAKER: Tom Hunter
DTSTAMP:20260420T014533Z
END:VEVENT
END:VCALENDAR