BEGIN:VCALENDAR
VERSION:2.0
PRODID:-//Drupal iCal API//EN
X-WR-CALNAME:Events items teaser
X-WR-TIMEZONE:America/Toronto
BEGIN:VTIMEZONE
TZID:America/Toronto
X-LIC-LOCATION:America/Toronto
BEGIN:DAYLIGHT
TZNAME:EDT
TZOFFSETFROM:-0500
TZOFFSETTO:-0400
DTSTART:20170312T070000
END:DAYLIGHT
BEGIN:STANDARD
TZNAME:EST
TZOFFSETFROM:-0400
TZOFFSETTO:-0500
DTSTART:20171105T060000
END:STANDARD
END:VTIMEZONE
BEGIN:VEVENT
UID:69e60326275e6
DTSTART;TZID=America/Toronto:20171113T143000
SEQUENCE:0
TRANSP:TRANSPARENT
DTEND;TZID=America/Toronto:20171113T143000
URL:https://uwaterloo.ca/institute-for-quantum-computing/events/shining-lig
 ht-perovskite-chalcogenides
LOCATION:QNC - Quantum Nano Centre 200 University Avenue West 0101 Waterloo
  ON N2L 3G1 Canada
SUMMARY:Shining Light on Perovskite Chalcogenides
CLASS:PUBLIC
DESCRIPTION:COLLOQUIUM: JAYAKANTH RAVICHANDRAN - UNIVERSITY OF SOUTHERN\n
 CALIFORNIA\n\nPerovskite Chalcogenides are a new class of semiconductors\,
  which have\ntunable band gap in the visible to infrared part of the\nelec
 tromagnetic spectrum. Besides this band gap tunability\, they offer\na uni
 que opportunity to realize large density of states semiconductors\nwith hi
 gh carrier mobility. In this talk\, I will discuss some of the\nadvances m
 ade both in my research group and in the research community\nin theory\, s
 ynthesis of these materials and understanding their\noptoelectronic proper
 ties.
DTSTAMP:20260420T104246Z
END:VEVENT
END:VCALENDAR