BEGIN:VCALENDAR
VERSION:2.0
PRODID:-//Drupal iCal API//EN
X-WR-CALNAME:Events items teaser
X-WR-TIMEZONE:America/Toronto
BEGIN:VTIMEZONE
TZID:America/Toronto
X-LIC-LOCATION:America/Toronto
BEGIN:DAYLIGHT
TZNAME:EDT
TZOFFSETFROM:-0500
TZOFFSETTO:-0400
DTSTART:20170312T070000
END:DAYLIGHT
BEGIN:STANDARD
TZNAME:EST
TZOFFSETFROM:-0400
TZOFFSETTO:-0500
DTSTART:20171105T060000
END:STANDARD
END:VTIMEZONE
BEGIN:VEVENT
UID:69e778dbd8318
DTSTART;TZID=America/Toronto:20171113T143000
SEQUENCE:0
TRANSP:TRANSPARENT
DTEND;TZID=America/Toronto:20171113T143000
URL:https://uwaterloo.ca/institute-for-quantum-computing/events/probing-sur
 face-spin-interaction-dynamics-using-nitrogen
LOCATION:PHY - Physics 200 University Avenue West 308 Waterloo ON N2L 3G1 C
 anada
SUMMARY:Probing Surface Spin Interaction Dynamics using Nitrogen-Vacancy\nC
 enter Quantum Sensors with High-Fidelity State-Selective Transition\nContr
 ol
CLASS:PUBLIC
DESCRIPTION:M.SC. THESIS PRESENTATION\n\n[Zimeng Wang]Candidate: Zimeng Wan
 g
DTSTAMP:20260421T131715Z
END:VEVENT
END:VCALENDAR