BEGIN:VCALENDAR
VERSION:2.0
PRODID:-//Drupal iCal API//EN
X-WR-CALNAME:Events items teaser
X-WR-TIMEZONE:America/Toronto
BEGIN:VTIMEZONE
TZID:America/Toronto
X-LIC-LOCATION:America/Toronto
BEGIN:DAYLIGHT
TZNAME:EDT
TZOFFSETFROM:-0500
TZOFFSETTO:-0400
DTSTART:20170312T070000
END:DAYLIGHT
BEGIN:STANDARD
TZNAME:EST
TZOFFSETFROM:-0400
TZOFFSETTO:-0500
DTSTART:20171105T060000
END:STANDARD
END:VTIMEZONE
BEGIN:VEVENT
UID:69e715d26723d
DTSTART;TZID=America/Toronto:20180130T160000
SEQUENCE:0
TRANSP:TRANSPARENT
DTEND;TZID=America/Toronto:20180130T160000
URL:https://uwaterloo.ca/institute-for-quantum-computing/events/fermi-hubba
 rd-model-universal-quantum-computation
LOCATION:QNC - Quantum Nano Centre 200 University Avenue West 0101 Waterloo
  ON N2L 3G1 Canada
SUMMARY:The Fermi-Hubbard Model for Universal Quantum Computation
CLASS:PUBLIC
DESCRIPTION:JIAWEI JI - THE UNIVERSITY OF CALGARY\n\nQuantum circuits bas
 ed only on matchgates are able to perform\nnon-trivial (but not universal)
  quantum algorithms. Because matchgates\ncan be mapped to non-interacting 
 fermions\, these circuits can be\nefficiently simulated on a classical com
 puter. One can perform\nuniversal quantum computation by adding any non-ma
 tchgate\nparity-preserving gate\, implying that interacting fermions are n
 atural\ncandidates for universal quantum computation within the circuit mo
 del.
DTSTAMP:20260421T061442Z
END:VEVENT
END:VCALENDAR