BEGIN:VCALENDAR
VERSION:2.0
PRODID:-//Drupal iCal API//EN
X-WR-CALNAME:Events items teaser
X-WR-TIMEZONE:America/Toronto
BEGIN:VTIMEZONE
TZID:America/Toronto
X-LIC-LOCATION:America/Toronto
BEGIN:DAYLIGHT
TZNAME:EDT
TZOFFSETFROM:-0500
TZOFFSETTO:-0400
DTSTART:20170312T070000
END:DAYLIGHT
BEGIN:STANDARD
TZNAME:EST
TZOFFSETFROM:-0400
TZOFFSETTO:-0500
DTSTART:20171105T060000
END:STANDARD
END:VTIMEZONE
BEGIN:VEVENT
UID:69e7341545073
DTSTART;TZID=America/Toronto:20180126T114500
SEQUENCE:0
TRANSP:TRANSPARENT
DTEND;TZID=America/Toronto:20180126T114500
URL:https://uwaterloo.ca/institute-for-quantum-computing/events/rac1-journa
 l-clubseminar-series-17
LOCATION:RAC - Research Advancement Centre 475 Wes Graham Way 2009 Waterloo
  ON N2L 6R2 Canada
SUMMARY:RAC1 Journal Club/Seminar Series
CLASS:PUBLIC
DESCRIPTION:[TARUN PATEL]TARUN PATEL: PHOTOCURRENT IMAGING OF CHARGE DENSIT
 Y WAVE\nTRANSITIONS IN ULTRATHIN 1T-TAS2  \n\n1T-TaS2 is a layered van-d
 er Waals material which shows multiple\ncharge density wave (CDW) transiti
 ons as a function of temperature.\nUltrathin flakes fabricated by mechanic
 al exfoliation and protected\nfrom oxidation with h-BN capping in inert at
 mosphere have been shown\nto retain these transitions.
DTSTAMP:20260421T082349Z
END:VEVENT
END:VCALENDAR