BEGIN:VCALENDAR
VERSION:2.0
PRODID:-//Drupal iCal API//EN
X-WR-CALNAME:Events items teaser
X-WR-TIMEZONE:America/Toronto
BEGIN:VTIMEZONE
TZID:America/Toronto
X-LIC-LOCATION:America/Toronto
BEGIN:DAYLIGHT
TZNAME:EDT
TZOFFSETFROM:-0500
TZOFFSETTO:-0400
DTSTART:20170312T070000
END:DAYLIGHT
BEGIN:STANDARD
TZNAME:EST
TZOFFSETFROM:-0400
TZOFFSETTO:-0500
DTSTART:20171105T060000
END:STANDARD
END:VTIMEZONE
BEGIN:VEVENT
UID:69e6e4bba8d3d
DTSTART;TZID=America/Toronto:20180205T093000
SEQUENCE:0
TRANSP:TRANSPARENT
DTEND;TZID=America/Toronto:20180205T093000
URL:https://uwaterloo.ca/institute-for-quantum-computing/events/algorithms-
 and-complexity-quantum-advantage
LOCATION:QNC - Quantum Nano Centre 200 University Avenue West 0101 Waterloo
  ON N2L 3G1 Canada
SUMMARY:Algorithms and complexity for quantum advantage
CLASS:PUBLIC
DESCRIPTION:DAVID GOSSET\, IBM TJ WATSON RESEARCH CENTER\n\nThere is stron
 g evidence that a sufficiently large fault-tolerant\nquantum computer woul
 d solve certain computational problems\nexponentially faster than any clas
 sical computer. How can quantum\nalgorithms and complexity theory help gui
 de the way forward in our\ncurrent era of small and noisy quantum computer
 s?
DTSTAMP:20260421T024515Z
END:VEVENT
END:VCALENDAR