BEGIN:VCALENDAR
VERSION:2.0
PRODID:-//Drupal iCal API//EN
X-WR-CALNAME:Events items teaser
X-WR-TIMEZONE:America/Toronto
BEGIN:VTIMEZONE
TZID:America/Toronto
X-LIC-LOCATION:America/Toronto
BEGIN:DAYLIGHT
TZNAME:EDT
TZOFFSETFROM:-0500
TZOFFSETTO:-0400
DTSTART:20170312T070000
END:DAYLIGHT
BEGIN:STANDARD
TZNAME:EST
TZOFFSETFROM:-0400
TZOFFSETTO:-0500
DTSTART:20171105T060000
END:STANDARD
END:VTIMEZONE
BEGIN:VEVENT
UID:69e73415cd822
DTSTART;TZID=America/Toronto:20180209T114500
SEQUENCE:0
TRANSP:TRANSPARENT
DTEND;TZID=America/Toronto:20180209T114500
URL:https://uwaterloo.ca/institute-for-quantum-computing/events/rac1-journa
 l-clubseminar-series-18
LOCATION:RAC - Research Advancement Centre 475 Wes Graham Way 2009 Waterloo
  ON N2L 6R2 Canada
SUMMARY:RAC1 Journal Club/Seminar Series
CLASS:PUBLIC
DESCRIPTION:KYLE WILLICK: CARBON NANOTUBE MECHANICAL RESONATORS - MAGNETIC
  FORCE\nDETECTION AND FAST SENSING\n\n[Kyle Willick]Suspended carbon nanot
 ube (CNT) resonators have\ndemonstrated excellent sensitivity in mass and 
 force sensing\napplications to date. I will introduce these mechanical res
 onators\,\nand how they can be combined with magnetic field gradients to r
 ealize\nmagnetic moment readout.
DTSTAMP:20260421T082349Z
END:VEVENT
END:VCALENDAR