BEGIN:VCALENDAR
VERSION:2.0
PRODID:-//Drupal iCal API//EN
X-WR-CALNAME:Events items teaser
X-WR-TIMEZONE:America/Toronto
BEGIN:VTIMEZONE
TZID:America/Toronto
X-LIC-LOCATION:America/Toronto
BEGIN:DAYLIGHT
TZNAME:EDT
TZOFFSETFROM:-0500
TZOFFSETTO:-0400
DTSTART:20170312T070000
END:DAYLIGHT
BEGIN:STANDARD
TZNAME:EST
TZOFFSETFROM:-0400
TZOFFSETTO:-0500
DTSTART:20171105T060000
END:STANDARD
END:VTIMEZONE
BEGIN:VEVENT
UID:69e72f9c8c956
DTSTART;TZID=America/Toronto:20180309T114500
SEQUENCE:0
TRANSP:TRANSPARENT
DTEND;TZID=America/Toronto:20180309T114500
URL:https://uwaterloo.ca/institute-for-quantum-computing/events/rac1-journa
 l-clubseminar-series-19
LOCATION:RAC - Research Advancement Centre 475 Wes Graham Way 2009 Waterloo
  ON N2L 6R2 Canada
SUMMARY:RAC1 Journal Club/Seminar Series
CLASS:PUBLIC
DESCRIPTION:DUSAN SARENAC: FAR-FIELD MOIRE NEUTRON INTERFEROMETRY\n\n[Dusan
  Sarenac]In this talk I will present our work on developing\nfar-field moi
 re neutron interferometry at the National Institute of\nStandards and Tech
 nology's Center for Neutron Research. We have\nsuccessfully built a two p
 hase-grating moire interferometer and\nemployed it for phase contrast imag
 ing.
DTSTAMP:20260421T080444Z
END:VEVENT
END:VCALENDAR