BEGIN:VCALENDAR
VERSION:2.0
PRODID:-//Drupal iCal API//EN
X-WR-CALNAME:Events items teaser
X-WR-TIMEZONE:America/Toronto
BEGIN:VTIMEZONE
TZID:America/Toronto
X-LIC-LOCATION:America/Toronto
BEGIN:DAYLIGHT
TZNAME:EDT
TZOFFSETFROM:-0500
TZOFFSETTO:-0400
DTSTART:20170312T070000
END:DAYLIGHT
BEGIN:STANDARD
TZNAME:EST
TZOFFSETFROM:-0400
TZOFFSETTO:-0500
DTSTART:20171105T060000
END:STANDARD
END:VTIMEZONE
BEGIN:VEVENT
UID:69e715d36d7b9
DTSTART;TZID=America/Toronto:20180212T143000
SEQUENCE:0
TRANSP:TRANSPARENT
DTEND;TZID=America/Toronto:20180212T143000
URL:https://uwaterloo.ca/institute-for-quantum-computing/events/colloquium-
 tom-timusk-mcmaster-university
LOCATION:QNC - Quantum Nano Centre 200 University Avenue West 0101 Waterloo
  ON N2L 3G1 Canada
SUMMARY:Colloquium: Tom Timusk\, McMaster University
CLASS:PUBLIC
DESCRIPTION:HYDROGEN AND HYDRIDE SUPERCONDUCTORS\, A NEW PATH TO ROOM TEMP
 ERATURE\nSUPERCONDUCTIVITY?\n\nThe recent discovery of superconductivity i
 n H3S under high pressure\nby the group of Mikhail Eremets at the record b
 reaking temperature of\n203 K has opened a whole new path to potential roo
 m temperature\nsuperconductivity. I will describe recent experiments desig
 ned to\nverify the pairing mechanism in this new material using infrared\n
 spectroscopy.
DTSTAMP:20260421T061443Z
END:VEVENT
END:VCALENDAR