BEGIN:VCALENDAR
VERSION:2.0
PRODID:-//Drupal iCal API//EN
X-WR-CALNAME:Events items teaser
X-WR-TIMEZONE:America/Toronto
BEGIN:VTIMEZONE
TZID:America/Toronto
X-LIC-LOCATION:America/Toronto
BEGIN:DAYLIGHT
TZNAME:EDT
TZOFFSETFROM:-0500
TZOFFSETTO:-0400
DTSTART:20180311T070000
END:DAYLIGHT
BEGIN:STANDARD
TZNAME:EST
TZOFFSETFROM:-0400
TZOFFSETTO:-0500
DTSTART:20171105T060000
END:STANDARD
END:VTIMEZONE
BEGIN:VEVENT
UID:69e715d46bcf9
DTSTART;TZID=America/Toronto:20180327T140000
SEQUENCE:0
TRANSP:TRANSPARENT
DTEND;TZID=America/Toronto:20180327T140000
URL:https://uwaterloo.ca/institute-for-quantum-computing/events/simulating-
 cosmological-models-optical-lattices
LOCATION:QNC - Quantum Nano Centre 200 University Avenue West 0101 Waterloo
  ON N2L 3G1 Canada
SUMMARY:Simulating Cosmological Models in Optical Lattices
CLASS:PUBLIC
DESCRIPTION:GERARD VALENTÍ ROJAS - THE INSTITUTE OF PHOTONIC SCIENCES\, S
 PAIN\n\nThe laws of quantum mechanics have helped scientists to unravel th
 e\nbehaviour of nature at its most fundamental scales. However\, quantum\n
 phenomena are often difficult to understand and simulations have\nhistori
 cally provided a useful framework for their study.\nNevertheless\, when d
 ealing with large quantum systems or real-time\ndynamics\, the computation
 al cost of numerical simulations can become\nunfeasible.
DTSTAMP:20260421T061444Z
END:VEVENT
END:VCALENDAR