BEGIN:VCALENDAR
VERSION:2.0
PRODID:-//Drupal iCal API//EN
X-WR-CALNAME:Events items teaser
X-WR-TIMEZONE:America/Toronto
BEGIN:VTIMEZONE
TZID:America/Toronto
X-LIC-LOCATION:America/Toronto
BEGIN:DAYLIGHT
TZNAME:EDT
TZOFFSETFROM:-0500
TZOFFSETTO:-0400
DTSTART:20170312T070000
END:DAYLIGHT
BEGIN:STANDARD
TZNAME:EST
TZOFFSETFROM:-0400
TZOFFSETTO:-0500
DTSTART:20171105T060000
END:STANDARD
END:VTIMEZONE
BEGIN:VEVENT
UID:69e715d166d82
DTSTART;TZID=America/Toronto:20180213T103000
SEQUENCE:0
TRANSP:TRANSPARENT
DTEND;TZID=America/Toronto:20180213T103000
URL:https://uwaterloo.ca/institute-for-quantum-computing/events/synergetic-
 study-electrical-transport-using-graphene-and
LOCATION:RAC - Research Advancement Centre 475 Wes Graham Way 1101 Waterloo
  ON N2L 6R2 Canada
SUMMARY:Synergetic Study of Electrical Transport using Graphene and SrTiO3
CLASS:PUBLIC
DESCRIPTION:JEONGMIN PARK - CENTER FOR INTEGRATED NANOSTRUCTURE PHYSICS (CI
 NAP)\,\nINSTITUTE FOR BASIC SCIENCE (IBS) DEPARTMENT OF ENERGY SCIENCE\,\n
 SUNGKYUNKWAN UNIVERSITY\n\nThe combination of two-dimensional (2D) materia
 ls and functional oxide\nhas been attracted in electrical transport study.
  Many researchers\nexpected synergetic performance from this interesting s
 tructure. And\nthe field effect transistor (FET) scheme was widely used to
  study it.\nHere\, we successfully demonstrated graphene FET device which 
 is\nfabricated on top of SrTiO3 (STO).
DTSTAMP:20260421T061441Z
END:VEVENT
END:VCALENDAR