BEGIN:VCALENDAR
VERSION:2.0
PRODID:-//Drupal iCal API//EN
X-WR-CALNAME:Events items teaser
X-WR-TIMEZONE:America/Toronto
BEGIN:VTIMEZONE
TZID:America/Toronto
X-LIC-LOCATION:America/Toronto
BEGIN:DAYLIGHT
TZNAME:EDT
TZOFFSETFROM:-0500
TZOFFSETTO:-0400
DTSTART:20170312T070000
END:DAYLIGHT
BEGIN:STANDARD
TZNAME:EST
TZOFFSETFROM:-0400
TZOFFSETTO:-0500
DTSTART:20171105T060000
END:STANDARD
END:VTIMEZONE
BEGIN:VEVENT
UID:69e6cb240e2ec
DTSTART;TZID=America/Toronto:20180222T160000
SEQUENCE:0
TRANSP:TRANSPARENT
DTEND;TZID=America/Toronto:20180222T160000
URL:https://uwaterloo.ca/institute-for-quantum-computing/events/single-phot
 on-imaging-what-physics-and-computation-can-do
LOCATION:QNC - Quantum Nano Centre 200 University Avenue West 1201 Waterloo
  ON N2L 3G1 Canada
SUMMARY:Single-Photon Imaging: What Physics and Computation can do Together
  in\nImaging Science
CLASS:PUBLIC
DESCRIPTION:FEIHU XU\, UNIVERSITY OF SCIENCE AND TECHNOLOGY OF CHINA\n\nEve
 ry time you take a photo\, photons strike different parts of your\nimage s
 ensor in different quantities. In daytime\, your sensor detects\nmore than
  a billion photons\, which are more than 1000 photons per\npixel for a bas
 ic one-megapixel camera. Can you take a photo with one\nphoton per pixel? 
 I will address how to perform accurate imaging at a\nlight level of one ph
 oton per pixel.
DTSTAMP:20260421T005604Z
END:VEVENT
END:VCALENDAR