BEGIN:VCALENDAR
VERSION:2.0
PRODID:-//Drupal iCal API//EN
X-WR-CALNAME:Events items teaser
X-WR-TIMEZONE:America/Toronto
BEGIN:VTIMEZONE
TZID:America/Toronto
X-LIC-LOCATION:America/Toronto
BEGIN:DAYLIGHT
TZNAME:EDT
TZOFFSETFROM:-0500
TZOFFSETTO:-0400
DTSTART:20170312T070000
END:DAYLIGHT
BEGIN:STANDARD
TZNAME:EST
TZOFFSETFROM:-0400
TZOFFSETTO:-0500
DTSTART:20171105T060000
END:STANDARD
END:VTIMEZONE
BEGIN:VEVENT
UID:69e715cf6b88b
DTSTART;TZID=America/Toronto:20180226T120000
SEQUENCE:0
TRANSP:TRANSPARENT
DTEND;TZID=America/Toronto:20180226T120000
URL:https://uwaterloo.ca/institute-for-quantum-computing/events/critical-no
 ise-parameters-assessment-quantum-error
LOCATION:QNC - Quantum Nano Centre 200 University Avenue West 1201 Waterloo
  ON N2L 3G1 Canada
SUMMARY:Critical noise parameters for assessment of quantum error correctio
 n
CLASS:PUBLIC
DESCRIPTION:PAVITHRAN IYER\, UNIVERSITÉ DE SHERBROOKE\n\nArbitrary preci
 sion quantum control of qubit systems appears to be\nunobtainable due to e
 nvironmental influences that manifest themselves\nas errors in a quantum a
 lgorithm. Errors modelled by the probabilistic\napplication of Pauli opera
 tors during the computation are convenient\nfor analytical proofs and clas
 sical simulation but the level of\naccuracy of such a model depends on the
  quantumness of the error\nsource.
DTSTAMP:20260421T061439Z
END:VEVENT
END:VCALENDAR